BEGIN:VCALENDAR
VERSION:2.0
PRODID:-//Skärbäck - ECPv6.15.16//NONSGML v1.0//EN
CALSCALE:GREGORIAN
METHOD:PUBLISH
X-WR-CALNAME:Skärbäck
X-ORIGINAL-URL:https://www.skarback.com
X-WR-CALDESC:Events for Skärbäck
REFRESH-INTERVAL;VALUE=DURATION:PT1H
X-Robots-Tag:noindex
X-PUBLISHED-TTL:PT1H
BEGIN:VTIMEZONE
TZID:UTC
BEGIN:STANDARD
TZOFFSETFROM:+0000
TZOFFSETTO:+0000
TZNAME:UTC
DTSTART:20210101T000000
END:STANDARD
END:VTIMEZONE
BEGIN:VEVENT
DTSTART;TZID=UTC:20220422T150000
DTEND;TZID=UTC:20220422T170000
DTSTAMP:20260426T030244
CREATED:20220315T192621Z
LAST-MODIFIED:20220315T192621Z
UID:1101-1650639600-1650646800@www.skarback.com
SUMMARY:Kaffe för daglediga + föredrag om biodling
DESCRIPTION:Föredrag om biodling\, Bertil Johansson.
URL:https://www.skarback.com/event/kaffe-for-daglediga-foredrag-om-biodling/
END:VEVENT
END:VCALENDAR