BEGIN:VCALENDAR
VERSION:2.0
PRODID:-//Skärbäck - ECPv6.15.16//NONSGML v1.0//EN
CALSCALE:GREGORIAN
METHOD:PUBLISH
X-ORIGINAL-URL:https://www.skarback.com
X-WR-CALDESC:Events for Skärbäck
REFRESH-INTERVAL;VALUE=DURATION:PT1H
X-Robots-Tag:noindex
X-PUBLISHED-TTL:PT1H
BEGIN:VTIMEZONE
TZID:UTC
BEGIN:STANDARD
TZOFFSETFROM:+0000
TZOFFSETTO:+0000
TZNAME:UTC
DTSTART:20210101T000000
END:STANDARD
END:VTIMEZONE
BEGIN:VEVENT
DTSTART;TZID=UTC:20220520T133000
DTEND;TZID=UTC:20220520T153000
DTSTAMP:20260426T013733
CREATED:20220315T192725Z
LAST-MODIFIED:20220414T085449Z
UID:1103-1653053400-1653060600@www.skarback.com
SUMMARY:Visning av Svarthults stuteri
DESCRIPTION:Joakim o Pernilla visar runt. Samling på gårdsplanen.
URL:https://www.skarback.com/event/kaffe-for-daglediga-besok-pa-svarthults-stuteri/
END:VEVENT
END:VCALENDAR