BEGIN:VCALENDAR
VERSION:2.0
PRODID:-//Skärbäck - ECPv6.15.16//NONSGML v1.0//EN
CALSCALE:GREGORIAN
METHOD:PUBLISH
X-WR-CALNAME:Skärbäck
X-ORIGINAL-URL:https://www.skarback.com
X-WR-CALDESC:Events for Skärbäck
REFRESH-INTERVAL;VALUE=DURATION:PT1H
X-Robots-Tag:noindex
X-PUBLISHED-TTL:PT1H
BEGIN:VTIMEZONE
TZID:UTC
BEGIN:STANDARD
TZOFFSETFROM:+0000
TZOFFSETTO:+0000
TZNAME:UTC
DTSTART:20210101T000000
END:STANDARD
END:VTIMEZONE
BEGIN:VEVENT
DTSTART;TZID=UTC:20220612T100000
DTEND;TZID=UTC:20220612T140000
DTSTAMP:20260426T001431
CREATED:20220315T192826Z
LAST-MODIFIED:20220414T085534Z
UID:1105-1655028000-1655042400@www.skarback.com
SUMMARY:Städdag av Skärbäcksgården
DESCRIPTION:Både inomhus och utomhus.
URL:https://www.skarback.com/event/staddag-av-skarbacksgarden/
END:VEVENT
END:VCALENDAR