BEGIN:VCALENDAR
VERSION:2.0
PRODID:-//Skärbäck - ECPv6.15.16//NONSGML v1.0//EN
CALSCALE:GREGORIAN
METHOD:PUBLISH
X-WR-CALNAME:Skärbäck
X-ORIGINAL-URL:https://www.skarback.com
X-WR-CALDESC:Events for Skärbäck
REFRESH-INTERVAL;VALUE=DURATION:PT1H
X-Robots-Tag:noindex
X-PUBLISHED-TTL:PT1H
BEGIN:VTIMEZONE
TZID:UTC
BEGIN:STANDARD
TZOFFSETFROM:+0000
TZOFFSETTO:+0000
TZNAME:UTC
DTSTART:20220101T000000
END:STANDARD
END:VTIMEZONE
BEGIN:VEVENT
DTSTART;TZID=UTC:20230110T170000
DTEND;TZID=UTC:20230110T183000
DTSTAMP:20260425T134231
CREATED:20230112T194018Z
LAST-MODIFIED:20230112T194018Z
UID:1140-1673370000-1673375400@www.skarback.com
SUMMARY:Styrelsemöte
DESCRIPTION:
URL:https://www.skarback.com/event/styrelsemote-31/
END:VEVENT
END:VCALENDAR