BEGIN:VCALENDAR
VERSION:2.0
PRODID:-//Skärbäck - ECPv6.15.16//NONSGML v1.0//EN
CALSCALE:GREGORIAN
METHOD:PUBLISH
X-WR-CALNAME:Skärbäck
X-ORIGINAL-URL:https://www.skarback.com
X-WR-CALDESC:Events for Skärbäck
REFRESH-INTERVAL;VALUE=DURATION:PT1H
X-Robots-Tag:noindex
X-PUBLISHED-TTL:PT1H
BEGIN:VTIMEZONE
TZID:UTC
BEGIN:STANDARD
TZOFFSETFROM:+0000
TZOFFSETTO:+0000
TZNAME:UTC
DTSTART:20220101T000000
END:STANDARD
END:VTIMEZONE
BEGIN:VEVENT
DTSTART;VALUE=DATE:20231112
DTEND;VALUE=DATE:20231113
DTSTAMP:20260426T005547
CREATED:20230925T122308Z
LAST-MODIFIED:20230925T122308Z
UID:1215-1699747200-1699833599@www.skarback.com
SUMMARY:Fik i Skärbäcksgården
DESCRIPTION:Klass 6 i Ramkvilla skola håller fik i Skärbäcksgården på em. Pengarna går till skolresa.
URL:https://www.skarback.com/event/fik-i-skarbacksgarden/
END:VEVENT
END:VCALENDAR