BEGIN:VCALENDAR
VERSION:2.0
PRODID:-//Skärbäck - ECPv6.15.16//NONSGML v1.0//EN
CALSCALE:GREGORIAN
METHOD:PUBLISH
X-WR-CALNAME:Skärbäck
X-ORIGINAL-URL:https://www.skarback.com
X-WR-CALDESC:Events for Skärbäck
REFRESH-INTERVAL;VALUE=DURATION:PT1H
X-Robots-Tag:noindex
X-PUBLISHED-TTL:PT1H
BEGIN:VTIMEZONE
TZID:UTC
BEGIN:STANDARD
TZOFFSETFROM:+0000
TZOFFSETTO:+0000
TZNAME:UTC
DTSTART:20220101T000000
END:STANDARD
END:VTIMEZONE
BEGIN:VEVENT
DTSTART;TZID=UTC:20231122T190000
DTEND;TZID=UTC:20231122T200000
DTSTAMP:20260426T005547
CREATED:20231030T162039Z
LAST-MODIFIED:20231030T162039Z
UID:1222-1700679600-1700683200@www.skarback.com
SUMMARY:Föredrag om Braås gård
DESCRIPTION:Stefan Bergqvist håller föredrag om Braås gård och dess omgivning. Fika till självkostnadspris.
URL:https://www.skarback.com/event/foredrag-om-braas-gard/
LOCATION:Skärbäcksgården\, Skärbäck 39\, Ramkvilla\, 57474\, Sverige
END:VEVENT
END:VCALENDAR