BEGIN:VCALENDAR
VERSION:2.0
PRODID:-//Skärbäck - ECPv6.15.16//NONSGML v1.0//EN
CALSCALE:GREGORIAN
METHOD:PUBLISH
X-WR-CALNAME:Skärbäck
X-ORIGINAL-URL:https://www.skarback.com
X-WR-CALDESC:Events for Skärbäck
REFRESH-INTERVAL;VALUE=DURATION:PT1H
X-Robots-Tag:noindex
X-PUBLISHED-TTL:PT1H
BEGIN:VTIMEZONE
TZID:UTC
BEGIN:STANDARD
TZOFFSETFROM:+0000
TZOFFSETTO:+0000
TZNAME:UTC
DTSTART:20220101T000000
END:STANDARD
END:VTIMEZONE
BEGIN:VEVENT
DTSTART;TZID=UTC:20231210T160000
DTEND;TZID=UTC:20231210T180000
DTSTAMP:20260426T022004
CREATED:20231030T162214Z
LAST-MODIFIED:20231030T162214Z
UID:1226-1702224000-1702231200@www.skarback.com
SUMMARY:Lillejul i Skärbäcksgården
DESCRIPTION:Julklappslotteri och fika.
URL:https://www.skarback.com/event/lillejul-i-skarbacksgarden/
END:VEVENT
END:VCALENDAR