BEGIN:VCALENDAR
VERSION:2.0
PRODID:-//Skärbäck - ECPv6.15.16//NONSGML v1.0//EN
CALSCALE:GREGORIAN
METHOD:PUBLISH
X-ORIGINAL-URL:https://www.skarback.com
X-WR-CALDESC:Events for Skärbäck
REFRESH-INTERVAL;VALUE=DURATION:PT1H
X-Robots-Tag:noindex
X-PUBLISHED-TTL:PT1H
BEGIN:VTIMEZONE
TZID:UTC
BEGIN:STANDARD
TZOFFSETFROM:+0000
TZOFFSETTO:+0000
TZNAME:UTC
DTSTART:20240101T000000
END:STANDARD
END:VTIMEZONE
BEGIN:VEVENT
DTSTART;VALUE=DATE:20250723
DTEND;VALUE=DATE:20250724
DTSTAMP:20260426T010205
CREATED:20250429T060709Z
LAST-MODIFIED:20250429T060709Z
UID:1326-1753228800-1753315199@www.skarback.com
SUMMARY:Skärbäcksstämman
DESCRIPTION:
URL:https://www.skarback.com/event/skarbacksstamman/
END:VEVENT
BEGIN:VEVENT
DTSTART;VALUE=DATE:20250724
DTEND;VALUE=DATE:20250725
DTSTAMP:20260426T010205
CREATED:20250429T060744Z
LAST-MODIFIED:20250429T060744Z
UID:1328-1753315200-1753401599@www.skarback.com
SUMMARY:Städning efter Skärbäcksstämman
DESCRIPTION:
URL:https://www.skarback.com/event/stadning-efter-skarbacksstamman/
END:VEVENT
BEGIN:VEVENT
DTSTART;VALUE=DATE:20250823
DTEND;VALUE=DATE:20250830
DTSTAMP:20260426T010205
CREATED:20250308T141710Z
LAST-MODIFIED:20251119T144031Z
UID:1317-1755907200-1756511999@www.skarback.com
SUMMARY:Uthyrt privat
DESCRIPTION:
URL:https://www.skarback.com/event/preliminart-uthyrt-privat/
END:VEVENT
BEGIN:VEVENT
DTSTART;VALUE=DATE:20251010
DTEND;VALUE=DATE:20251012
DTSTAMP:20260426T010205
CREATED:20250916T150421Z
LAST-MODIFIED:20250916T150438Z
UID:1335-1760054400-1760227199@www.skarback.com
SUMMARY:Uthyrt älgjakt
DESCRIPTION:
URL:https://www.skarback.com/event/uthyrt-algjakt/
END:VEVENT
BEGIN:VEVENT
DTSTART;VALUE=DATE:20251025
DTEND;VALUE=DATE:20251027
DTSTAMP:20260426T010205
CREATED:20250916T150508Z
LAST-MODIFIED:20251119T143618Z
UID:1337-1761350400-1761523199@www.skarback.com
SUMMARY:Uthyrt privat
DESCRIPTION:
URL:https://www.skarback.com/event/uthyrt-privat-preliminart/
END:VEVENT
BEGIN:VEVENT
DTSTART;TZID=UTC:20251214T160000
DTEND;TZID=UTC:20251214T190000
DTSTAMP:20260426T010205
CREATED:20251119T143701Z
LAST-MODIFIED:20251119T143701Z
UID:1343-1765728000-1765738800@www.skarback.com
SUMMARY:Lillejul
DESCRIPTION:Ta med en vinst till lotteriet!
URL:https://www.skarback.com/event/lillejul-8/
END:VEVENT
BEGIN:VEVENT
DTSTART;TZID=UTC:20260222T150000
DTEND;TZID=UTC:20260222T180000
DTSTAMP:20260426T010205
CREATED:20260223T161053Z
LAST-MODIFIED:20260223T161053Z
UID:1364-1771772400-1771783200@www.skarback.com
SUMMARY:Årsmöte
DESCRIPTION:Efter årsmötet följer underhållning av Lars Johansson\, Brittatorp\, som sjunger och\nberättar om Sven-Ingvars karriär. \nVi fikar kaffe och semlor!
URL:https://www.skarback.com/event/arsmote-4/
END:VEVENT
BEGIN:VEVENT
DTSTART;TZID=UTC:20260325T000000
DTEND;TZID=UTC:20260325T235959
DTSTAMP:20260426T010205
CREATED:20260319T162955Z
LAST-MODIFIED:20260319T162955Z
UID:1377-1774396800-1774483199@www.skarback.com
SUMMARY:Uthyrt vägmöte
DESCRIPTION:
URL:https://www.skarback.com/event/uthyrt-vagmote-5/
END:VEVENT
BEGIN:VEVENT
DTSTART;TZID=UTC:20260325T150000
DTEND;TZID=UTC:20260325T170000
DTSTAMP:20260426T010205
CREATED:20260319T163528Z
LAST-MODIFIED:20260319T163528Z
UID:1386-1774450800-1774458000@www.skarback.com
SUMMARY:Våffeldagen
DESCRIPTION:VÅFFELDAGEN FIRAR VI ONSDAGEN 25 MARS KL. 15.OO\nVi börjar med en tipspromenad och sedan dricker vi kaffe med nybakade våfflor.\nKostnad: 50 kr.\nVÄLKOMNA
URL:https://www.skarback.com/event/vaffeldagen/
END:VEVENT
BEGIN:VEVENT
DTSTART;TZID=UTC:20260408T000000
DTEND;TZID=UTC:20260408T235959
DTSTAMP:20260426T010205
CREATED:20260319T162912Z
LAST-MODIFIED:20260319T162912Z
UID:1375-1775606400-1775692799@www.skarback.com
SUMMARY:Uthyrt vägmöte
DESCRIPTION:
URL:https://www.skarback.com/event/uthyrt-vagmote-4/
END:VEVENT
BEGIN:VEVENT
DTSTART;TZID=UTC:20260409T000000
DTEND;TZID=UTC:20260409T235959
DTSTAMP:20260426T010205
CREATED:20260320T174357Z
LAST-MODIFIED:20260320T174357Z
UID:1395-1775692800-1775779199@www.skarback.com
SUMMARY:Uthyrt vägmöte
DESCRIPTION:
URL:https://www.skarback.com/event/uthyrt-vagmote-6/
END:VEVENT
BEGIN:VEVENT
DTSTART;TZID=UTC:20260606T000000
DTEND;TZID=UTC:20260607T235959
DTSTAMP:20260426T010205
CREATED:20260319T163024Z
LAST-MODIFIED:20260319T163024Z
UID:1379-1780704000-1780876799@www.skarback.com
SUMMARY:Uthyrt privat
DESCRIPTION:
URL:https://www.skarback.com/event/uthyrt-privat-27/
END:VEVENT
BEGIN:VEVENT
DTSTART;TZID=UTC:20260613T110000
DTEND;TZID=UTC:20260613T110000
DTSTAMP:20260426T010205
CREATED:20260319T163131Z
LAST-MODIFIED:20260423T181106Z
UID:1381-1781348400-1781348400@www.skarback.com
SUMMARY:Städdag
DESCRIPTION:Vi hjälps åt att städa gården och ställa i ordning för sommargäster.
URL:https://www.skarback.com/event/staddag-4/
END:VEVENT
BEGIN:VEVENT
DTSTART;TZID=UTC:20260722T000000
DTEND;TZID=UTC:20260722T235959
DTSTAMP:20260426T010205
CREATED:20260319T163235Z
LAST-MODIFIED:20260423T180331Z
UID:1383-1784678400-1784764799@www.skarback.com
SUMMARY:Skärbäcksstämman
DESCRIPTION:
URL:https://www.skarback.com/event/skarbacksstamman-2/
END:VEVENT
BEGIN:VEVENT
DTSTART;TZID=UTC:20260815T000000
DTEND;TZID=UTC:20260822T235959
DTSTAMP:20260426T010205
CREATED:20260319T183935Z
LAST-MODIFIED:20260319T183935Z
UID:1391-1786752000-1787443199@www.skarback.com
SUMMARY:Uthyrt privat
DESCRIPTION:
URL:https://www.skarback.com/event/uthyrt-privat-28/
END:VEVENT
END:VCALENDAR