BEGIN:VCALENDAR
VERSION:2.0
PRODID:-//Skärbäck - ECPv6.15.16//NONSGML v1.0//EN
CALSCALE:GREGORIAN
METHOD:PUBLISH
X-ORIGINAL-URL:https://www.skarback.com
X-WR-CALDESC:Events for Skärbäck
REFRESH-INTERVAL;VALUE=DURATION:PT1H
X-Robots-Tag:noindex
X-PUBLISHED-TTL:PT1H
BEGIN:VTIMEZONE
TZID:UTC
BEGIN:STANDARD
TZOFFSETFROM:+0000
TZOFFSETTO:+0000
TZNAME:UTC
DTSTART:20250101T000000
END:STANDARD
END:VTIMEZONE
BEGIN:VEVENT
DTSTART;TZID=UTC:20260409T000000
DTEND;TZID=UTC:20260409T235959
DTSTAMP:20260426T025214
CREATED:20260320T174357Z
LAST-MODIFIED:20260320T174357Z
UID:1395-1775692800-1775779199@www.skarback.com
SUMMARY:Uthyrt vägmöte
DESCRIPTION:
URL:https://www.skarback.com/event/uthyrt-vagmote-6/
END:VEVENT
BEGIN:VEVENT
DTSTART;TZID=UTC:20260606T000000
DTEND;TZID=UTC:20260607T235959
DTSTAMP:20260426T025214
CREATED:20260319T163024Z
LAST-MODIFIED:20260319T163024Z
UID:1379-1780704000-1780876799@www.skarback.com
SUMMARY:Uthyrt privat
DESCRIPTION:
URL:https://www.skarback.com/event/uthyrt-privat-27/
END:VEVENT
BEGIN:VEVENT
DTSTART;TZID=UTC:20260613T110000
DTEND;TZID=UTC:20260613T110000
DTSTAMP:20260426T025214
CREATED:20260319T163131Z
LAST-MODIFIED:20260423T181106Z
UID:1381-1781348400-1781348400@www.skarback.com
SUMMARY:Städdag
DESCRIPTION:Vi hjälps åt att städa gården och ställa i ordning för sommargäster.
URL:https://www.skarback.com/event/staddag-4/
END:VEVENT
BEGIN:VEVENT
DTSTART;TZID=UTC:20260722T000000
DTEND;TZID=UTC:20260722T235959
DTSTAMP:20260426T025214
CREATED:20260319T163235Z
LAST-MODIFIED:20260423T180331Z
UID:1383-1784678400-1784764799@www.skarback.com
SUMMARY:Skärbäcksstämman
DESCRIPTION:
URL:https://www.skarback.com/event/skarbacksstamman-2/
END:VEVENT
BEGIN:VEVENT
DTSTART;TZID=UTC:20260815T000000
DTEND;TZID=UTC:20260822T235959
DTSTAMP:20260426T025214
CREATED:20260319T183935Z
LAST-MODIFIED:20260319T183935Z
UID:1391-1786752000-1787443199@www.skarback.com
SUMMARY:Uthyrt privat
DESCRIPTION:
URL:https://www.skarback.com/event/uthyrt-privat-28/
END:VEVENT
END:VCALENDAR