BEGIN:VCALENDAR
VERSION:2.0
PRODID:-//Skärbäck - ECPv6.15.16//NONSGML v1.0//EN
CALSCALE:GREGORIAN
METHOD:PUBLISH
X-WR-CALNAME:Skärbäck
X-ORIGINAL-URL:https://www.skarback.com
X-WR-CALDESC:Events for Skärbäck
REFRESH-INTERVAL;VALUE=DURATION:PT1H
X-Robots-Tag:noindex
X-PUBLISHED-TTL:PT1H
BEGIN:VTIMEZONE
TZID:UTC
BEGIN:STANDARD
TZOFFSETFROM:+0000
TZOFFSETTO:+0000
TZNAME:UTC
DTSTART:20210101T000000
END:STANDARD
END:VTIMEZONE
BEGIN:VEVENT
DTSTART;TZID=UTC:20220303T160000
DTEND;TZID=UTC:20220303T200000
DTSTAMP:20260426T030242
CREATED:20220227T193310Z
LAST-MODIFIED:20220227T193310Z
UID:1089-1646323200-1646337600@www.skarback.com
SUMMARY:Fössta tossdan i mass
DESCRIPTION:Torsdag 3 mars från kl. 16.00 \nTårta och kaffe\, 50 kr. \nDe som vill kan stanna lite längre på Afterwork\, eller stanna till och ta en tårtbit efter jobbet!
URL:https://www.skarback.com/event/fossta-tossdan-i-mass-2/
LOCATION:Skärbäcksgården\, Skärbäck 39\, Ramkvilla\, 57474\, Sverige
END:VEVENT
BEGIN:VEVENT
DTSTART;VALUE=DATE:20220320
DTEND;VALUE=DATE:20220321
DTSTAMP:20260426T030242
CREATED:20220209T193250Z
LAST-MODIFIED:20220209T193250Z
UID:1084-1647734400-1647820799@www.skarback.com
SUMMARY:Vägmöte
DESCRIPTION:
URL:https://www.skarback.com/event/vagmote-4/
END:VEVENT
BEGIN:VEVENT
DTSTART;TZID=UTC:20220324T190000
DTEND;TZID=UTC:20220324T210000
DTSTAMP:20260426T030242
CREATED:20220315T192433Z
LAST-MODIFIED:20220315T192433Z
UID:1097-1648148400-1648155600@www.skarback.com
SUMMARY:Föredrag om vildsvin
DESCRIPTION:Jaktvårdskonsulent Elias Turesson\, Kronoberg. \nAnmälan till Ulla Grankvist\, 0706-227855\, senast 21 mars.
URL:https://www.skarback.com/event/foredrag-om-vildsvin/
END:VEVENT
BEGIN:VEVENT
DTSTART;VALUE=DATE:20220327
DTEND;VALUE=DATE:20220328
DTSTAMP:20260426T030242
CREATED:20220209T193334Z
LAST-MODIFIED:20220209T193334Z
UID:1086-1648339200-1648425599@www.skarback.com
SUMMARY:Möte Örkens fiskv. område
DESCRIPTION:
URL:https://www.skarback.com/event/mote-orkens-fiskv-omrade/
END:VEVENT
END:VCALENDAR