BEGIN:VCALENDAR
VERSION:2.0
PRODID:-//Skärbäck - ECPv6.15.16//NONSGML v1.0//EN
CALSCALE:GREGORIAN
METHOD:PUBLISH
X-WR-CALNAME:Skärbäck
X-ORIGINAL-URL:https://www.skarback.com
X-WR-CALDESC:Events for Skärbäck
REFRESH-INTERVAL;VALUE=DURATION:PT1H
X-Robots-Tag:noindex
X-PUBLISHED-TTL:PT1H
BEGIN:VTIMEZONE
TZID:UTC
BEGIN:STANDARD
TZOFFSETFROM:+0000
TZOFFSETTO:+0000
TZNAME:UTC
DTSTART:20210101T000000
END:STANDARD
END:VTIMEZONE
BEGIN:VEVENT
DTSTART;TZID=UTC:20220408T190000
DTEND;TZID=UTC:20220408T220000
DTSTAMP:20260426T013733
CREATED:20220315T192533Z
LAST-MODIFIED:20220315T192533Z
UID:1099-1649444400-1649455200@www.skarback.com
SUMMARY:Afterwork
DESCRIPTION:Ta med eget snacks och dricka. För de som vill köpa finns öl och cider.
URL:https://www.skarback.com/event/afterwork/
END:VEVENT
BEGIN:VEVENT
DTSTART;TZID=UTC:20220410T170000
DTEND;TZID=UTC:20220410T183000
DTSTAMP:20260426T013733
CREATED:20220330T152940Z
LAST-MODIFIED:20220330T152940Z
UID:1112-1649610000-1649615400@www.skarback.com
SUMMARY:Styrelsemöte
DESCRIPTION:
URL:https://www.skarback.com/event/styrelsemote-29/
END:VEVENT
BEGIN:VEVENT
DTSTART;TZID=UTC:20220422T150000
DTEND;TZID=UTC:20220422T170000
DTSTAMP:20260426T013733
CREATED:20220315T192621Z
LAST-MODIFIED:20220315T192621Z
UID:1101-1650639600-1650646800@www.skarback.com
SUMMARY:Kaffe för daglediga + föredrag om biodling
DESCRIPTION:Föredrag om biodling\, Bertil Johansson.
URL:https://www.skarback.com/event/kaffe-for-daglediga-foredrag-om-biodling/
END:VEVENT
BEGIN:VEVENT
DTSTART;VALUE=DATE:20220426
DTEND;VALUE=DATE:20220427
DTSTAMP:20260426T013733
CREATED:20220414T091403Z
LAST-MODIFIED:20220414T091403Z
UID:1121-1650931200-1651017599@www.skarback.com
SUMMARY:Uthyrt vägmöte
DESCRIPTION:
URL:https://www.skarback.com/event/uthyrt-vagmote/
END:VEVENT
END:VCALENDAR