BEGIN:VCALENDAR
VERSION:2.0
PRODID:-//Skärbäck - ECPv6.15.16//NONSGML v1.0//EN
CALSCALE:GREGORIAN
METHOD:PUBLISH
X-ORIGINAL-URL:https://www.skarback.com
X-WR-CALDESC:Events for Skärbäck
REFRESH-INTERVAL;VALUE=DURATION:PT1H
X-Robots-Tag:noindex
X-PUBLISHED-TTL:PT1H
BEGIN:VTIMEZONE
TZID:UTC
BEGIN:STANDARD
TZOFFSETFROM:+0000
TZOFFSETTO:+0000
TZNAME:UTC
DTSTART:20220101T000000
END:STANDARD
END:VTIMEZONE
BEGIN:VEVENT
DTSTART;TZID=UTC:20230302T150000
DTEND;TZID=UTC:20230302T170000
DTSTAMP:20260425T122303
CREATED:20230112T194250Z
LAST-MODIFIED:20230112T194250Z
UID:1145-1677769200-1677776400@www.skarback.com
SUMMARY:Fössta tossdan i mass
DESCRIPTION:
URL:https://www.skarback.com/event/fossta-tossdan-i-mass-3/
END:VEVENT
BEGIN:VEVENT
DTSTART;TZID=UTC:20230302T170000
DTEND;TZID=UTC:20230302T180000
DTSTAMP:20260425T122303
CREATED:20230112T194326Z
LAST-MODIFIED:20230112T194326Z
UID:1147-1677776400-1677780000@www.skarback.com
SUMMARY:Styrelsemöte
DESCRIPTION:
URL:https://www.skarback.com/event/styrelsemote-32/
END:VEVENT
BEGIN:VEVENT
DTSTART;VALUE=DATE:20230303
DTEND;VALUE=DATE:20230306
DTSTAMP:20260425T122303
CREATED:20230112T194504Z
LAST-MODIFIED:20230220T152722Z
UID:1151-1677801600-1678060799@www.skarback.com
SUMMARY:Uthyrt privat
DESCRIPTION:
URL:https://www.skarback.com/event/uthyrt-privat-preliminarbokat/
END:VEVENT
BEGIN:VEVENT
DTSTART;TZID=UTC:20230318T150000
DTEND;TZID=UTC:20230318T160000
DTSTAMP:20260425T122303
CREATED:20230212T163151Z
LAST-MODIFIED:20230212T163151Z
UID:1177-1679151600-1679155200@www.skarback.com
SUMMARY:Vägmöte
DESCRIPTION:
URL:https://www.skarback.com/event/vagmote-5/
END:VEVENT
BEGIN:VEVENT
DTSTART;VALUE=DATE:20230326
DTEND;VALUE=DATE:20230327
DTSTAMP:20260425T122303
CREATED:20230212T163442Z
LAST-MODIFIED:20230212T163442Z
UID:1179-1679788800-1679875199@www.skarback.com
SUMMARY:Uthyrt privat
DESCRIPTION:
URL:https://www.skarback.com/event/uthyrt-privat-19/
END:VEVENT
END:VCALENDAR