BEGIN:VCALENDAR
VERSION:2.0
PRODID:-//Skärbäck - ECPv6.15.16//NONSGML v1.0//EN
CALSCALE:GREGORIAN
METHOD:PUBLISH
X-WR-CALNAME:Skärbäck
X-ORIGINAL-URL:https://www.skarback.com
X-WR-CALDESC:Events for Skärbäck
REFRESH-INTERVAL;VALUE=DURATION:PT1H
X-Robots-Tag:noindex
X-PUBLISHED-TTL:PT1H
BEGIN:VTIMEZONE
TZID:UTC
BEGIN:STANDARD
TZOFFSETFROM:+0000
TZOFFSETTO:+0000
TZNAME:UTC
DTSTART:20220101T000000
END:STANDARD
END:VTIMEZONE
BEGIN:VEVENT
DTSTART;VALUE=DATE:20230405
DTEND;VALUE=DATE:20230406
DTSTAMP:20260425T134353
CREATED:20230327T161218Z
LAST-MODIFIED:20230327T161218Z
UID:1189-1680652800-1680739199@www.skarback.com
SUMMARY:Vägmöte
DESCRIPTION:
URL:https://www.skarback.com/event/vagmote-6/
END:VEVENT
BEGIN:VEVENT
DTSTART;TZID=UTC:20230418T170000
DTEND;TZID=UTC:20230418T183000
DTSTAMP:20260425T134353
CREATED:20230327T161405Z
LAST-MODIFIED:20230327T161405Z
UID:1191-1681837200-1681842600@www.skarback.com
SUMMARY:Styrelsemöte
DESCRIPTION:
URL:https://www.skarback.com/event/styrelsemote-33/
END:VEVENT
BEGIN:VEVENT
DTSTART;VALUE=DATE:20230428
DTEND;VALUE=DATE:20230501
DTSTAMP:20260425T134353
CREATED:20230220T152651Z
LAST-MODIFIED:20230327T161141Z
UID:1182-1682640000-1682899199@www.skarback.com
SUMMARY:Uthyrt privat
DESCRIPTION:
URL:https://www.skarback.com/event/uthyrt-privat-20/
END:VEVENT
END:VCALENDAR